BEGIN:VCALENDAR
VERSION:2.0
PRODID:spatie/icalendar-generator
DESCRIPTION:Events from Peacehaven &amp;amp\; District Chamber of Commerce
X-WR-CALDESC:Events from Peacehaven &amp;amp\; District Chamber of Commerce
REFRESH-INTERVAL;VALUE=DURATION:PT1440M
X-PUBLISHED-TTL:PT1440M
BEGIN:VTIMEZONE
TZID:Etc/GMT+0
BEGIN:STANDARD
DTSTART:20250725T070000Z
TZOFFSETFROM:+0000
TZOFFSETTO:+0000
END:STANDARD
END:VTIMEZONE
BEGIN:VTIMEZONE
TZID:UTC
BEGIN:STANDARD
DTSTART:20250724T140557Z
TZOFFSETFROM:+0000
TZOFFSETTO:+0000
END:STANDARD
END:VTIMEZONE
BEGIN:VEVENT
UID:479-92
DTSTAMP:20260420T140557Z
SUMMARY:Breakfast Club
LOCATION:Saltdean Lido The Oval Park Saltdean Park Rd Saltdean  BN2 8SP
ORGANIZER;CN=Southern PC Services:MAILTO:info@southernpcservices.co.uk
DTSTART;TZID=Etc/GMT+0:20260421T070000
DTEND;TZID=Etc/GMT+0:20260421T083000
X-ALT-DESC;FMTTYPE=TEXT/HTML:Peacehaven &amp;amp\; District Chamber of Commerce
  Breakfast Club &amp;nbsp\; &amp;nbsp\; For details of the next event click here &amp;
 nbsp\; Guest Speaker Anne Bickmore - ABC Fund &amp;nbsp\; Anne Bickmore set up
  the ABC Fund charity in 1991 to provide trips and treats for children liv
 ing with adversity by putting smiles on their faces  Starting in&amp;hellip\;
CATEGORIES:Breakfast Club
URL;VALUE=URI:https://peacehavenchamber.co.uk/calendar?mc_id=479&#038;vcal=
 479
METHOD:PUBLISH
END:VEVENT
END:VCALENDAR