BEGIN:VCALENDAR
VERSION:2.0
PRODID:spatie/icalendar-generator
DESCRIPTION:Events from Peacehaven &amp;amp\; District Chamber of Commerce
X-WR-CALDESC:Events from Peacehaven &amp;amp\; District Chamber of Commerce
REFRESH-INTERVAL;VALUE=DURATION:PT1440M
X-PUBLISHED-TTL:PT1440M
BEGIN:VTIMEZONE
TZID:Etc/GMT+0
BEGIN:STANDARD
DTSTART:20250808T070000Z
TZOFFSETFROM:+0000
TZOFFSETTO:+0000
END:STANDARD
END:VTIMEZONE
BEGIN:VTIMEZONE
TZID:UTC
BEGIN:STANDARD
DTSTART:20250724T140551Z
TZOFFSETFROM:+0000
TZOFFSETTO:+0000
END:STANDARD
END:VTIMEZONE
BEGIN:VEVENT
UID:430-41
DTSTAMP:20260420T140551Z
SUMMARY:Breakfast Club
LOCATION:Saltdean Lido The Oval Park Saltdean Park Rd Saltdean  BN2 8SP
ORGANIZER;CN=Southern PC Services:MAILTO:info@southernpcservices.co.uk
RRULE:FREQ=MONTHLY;BYDAY=1TU;UNTIL=20290605T000000Z
DTSTART;TZID=Etc/GMT+0:20260505T070000
DTEND;TZID=Etc/GMT+0:20260505T083000
X-ALT-DESC;FMTTYPE=TEXT/HTML:Peacehaven &amp;amp\; District Chamber of Commerce
  Breakfast Club &amp;nbsp\; &amp;nbsp\; For details of the next event click here G
 uest Speaker &amp;nbsp\; TBA &amp;nbsp\; Watch this space to see details of our ne
 xt guest speaker
CATEGORIES:Breakfast Club
URL;VALUE=URI:https://peacehavenchamber.co.uk/calendar?mc_id=430&#038;vcal=
 430
METHOD:PUBLISH
END:VEVENT
END:VCALENDAR